BEGIN:VCALENDAR
VERSION:2.0
PRODID:-//OLD Inco-LAB Smart Island Cluster - ECPv6.0.5//NONSGML v1.0//EN
CALSCALE:GREGORIAN
METHOD:PUBLISH
X-WR-CALNAME:OLD Inco-LAB Smart Island Cluster
X-ORIGINAL-URL:https://old.smartislandcluster.org
X-WR-CALDESC:Events for OLD Inco-LAB Smart Island Cluster
REFRESH-INTERVAL;VALUE=DURATION:PT1H
X-Robots-Tag:noindex
X-PUBLISHED-TTL:PT1H
BEGIN:VTIMEZONE
TZID:UTC
BEGIN:STANDARD
TZOFFSETFROM:+0000
TZOFFSETTO:+0000
TZNAME:UTC
DTSTART:20230101T000000
END:STANDARD
END:VTIMEZONE
BEGIN:VEVENT
DTSTART;TZID=UTC:20231005T153000
DTEND;TZID=UTC:20231005T173000
DTSTAMP:20260422T223618
CREATED:20230918T152058Z
LAST-MODIFIED:20230918T152058Z
UID:2500-1696519800-1696527000@old.smartislandcluster.org
SUMMARY:Mesa sectorial 05 octubre
DESCRIPTION:Aplicación práctica del modelo \, escalabilidad y valor social aportado. Desarrollo de negocio.
URL:https://old.smartislandcluster.org/event/mesa-sectorial-05-octubre/
LOCATION:CEOE\, Rambla de Santa Cruz\, 147\, Santa Cruz de Tenerife\, Santa Cruz de Tenerife\, 38001\, España
ATTACH;FMTTYPE=image/jpeg:https://old.smartislandcluster.org/wp-content/uploads/2023/09/CARTEL-05-de-octubre-2023.jpg
END:VEVENT
BEGIN:VEVENT
DTSTART;TZID=UTC:20231130T153000
DTEND;TZID=UTC:20231130T190000
DTSTAMP:20260422T223618
CREATED:20230918T152425Z
LAST-MODIFIED:20231024T131330Z
UID:2505-1701358200-1701370800@old.smartislandcluster.org
SUMMARY:2º Foro Internacional de Territorios Inteligentes
DESCRIPTION:
URL:https://old.smartislandcluster.org/event/2o-foro-internacional-de-territorios-inteligentes/
LOCATION:Presidencia del Gobierno de Canarias\, C. de José Manuel Guimerá\, 3\, Santa Cruz de Tenerife\, Santa Cruz de Tenerife\, 38003
ATTACH;FMTTYPE=image/png:https://old.smartislandcluster.org/wp-content/uploads/2023/10/FORO-CARTEL-CUADRADO.png
END:VEVENT
END:VCALENDAR